BEGIN:VCALENDAR
VERSION:2.0
PRODID:-//URPS Médecins AuRA - ECPv6.6.4//NONSGML v1.0//EN
CALSCALE:GREGORIAN
METHOD:PUBLISH
X-WR-CALNAME:URPS Médecins AuRA
X-ORIGINAL-URL:https://urps-med-aura.fr
X-WR-CALDESC:évènements pour URPS Médecins AuRA
REFRESH-INTERVAL;VALUE=DURATION:PT1H
X-Robots-Tag:noindex
X-PUBLISHED-TTL:PT1H
BEGIN:VTIMEZONE
TZID:Europe/Paris
BEGIN:DAYLIGHT
TZOFFSETFROM:+0100
TZOFFSETTO:+0200
TZNAME:CEST
DTSTART:20260329T010000
END:DAYLIGHT
BEGIN:STANDARD
TZOFFSETFROM:+0200
TZOFFSETTO:+0100
TZNAME:CET
DTSTART:20261025T010000
END:STANDARD
END:VTIMEZONE
BEGIN:VEVENT
DTSTART;TZID=Europe/Paris:20260424T090000
DTEND;TZID=Europe/Paris:20260424T131500
DTSTAMP:20260424T123341
CREATED:20260120T084430Z
LAST-MODIFIED:20260309T083929Z
UID:50439-1777021200-1777036500@urps-med-aura.fr
SUMMARY:Colloque Regards croisés sur les écrans chez l’enfant
DESCRIPTION:Journée destinée aux internes en médecine générale et jeunes médecins généralistes (dernière année d’internat\, SASPAS\, remplaçants\, etc.) afin de leur transmettre toutes les informations nécessaires pour une installation réussie en libéral.  Mercedi 10 juin 2026 à la faculté de Médecine de Saint-Etienne. Plus d’infos sur cette page ou auprès de Dominique Mochon : 04 72 83 81 34 / contact par mail 								\n		\n				\n				\n					Cliquez ici pour vous inscrire à cette journée
URL:https://urps-med-aura.fr/evenement/colloque-regards-croises-sur-les-ecrans-chez-lenfant/
END:VEVENT
BEGIN:VEVENT
DTSTART;TZID=Europe/Paris:20260428T123000
DTEND;TZID=Europe/Paris:20260428T133000
DTSTAMP:20260424T123341
CREATED:20260330T141527Z
LAST-MODIFIED:20260421T075749Z
UID:51153-1777379400-1777383000@urps-med-aura.fr
SUMMARY:1h pour maitriser votre e-réputation médicale - Webinaire
DESCRIPTION:Journée destinée aux internes en médecine générale et jeunes médecins généralistes (dernière année d’internat\, SASPAS\, remplaçants\, etc.) afin de leur transmettre toutes les informations nécessaires pour une installation réussie en libéral.  Mercedi 10 juin 2026 à la faculté de Médecine de Saint-Etienne. Plus d’infos sur cette page ou auprès de Dominique Mochon : 04 72 83 81 34 / contact par mail 								\n		\n				\n				\n					Cliquez ici pour vous inscrire à cette journée
URL:https://urps-med-aura.fr/evenement/1h-pour-maitriser-votre-e-reputation-medicale-webinaire/
END:VEVENT
BEGIN:VEVENT
DTSTART;TZID=Europe/Paris:20260428T130000
DTEND;TZID=Europe/Paris:20260428T140000
DTSTAMP:20260424T123341
CREATED:20260325T101904Z
LAST-MODIFIED:20260325T102121Z
UID:51088-1777381200-1777384800@urps-med-aura.fr
SUMMARY:Vaccination : Comment devenir un professionnel convaincu - Webinaire
DESCRIPTION:Journée destinée aux internes en médecine générale et jeunes médecins généralistes (dernière année d’internat\, SASPAS\, remplaçants\, etc.) afin de leur transmettre toutes les informations nécessaires pour une installation réussie en libéral.  Mercedi 10 juin 2026 à la faculté de Médecine de Saint-Etienne. Plus d’infos sur cette page ou auprès de Dominique Mochon : 04 72 83 81 34 / contact par mail 								\n		\n				\n				\n					Cliquez ici pour vous inscrire à cette journée
URL:https://urps-med-aura.fr/evenement/vaccination-comment-devenir-un-professionnel-convaincu-webinaire/
END:VEVENT
BEGIN:VEVENT
DTSTART;TZID=Europe/Paris:20260430T130000
DTEND;TZID=Europe/Paris:20260430T140000
DTSTAMP:20260424T123341
CREATED:20260319T103750Z
LAST-MODIFIED:20260319T103750Z
UID:51048-1777554000-1777557600@urps-med-aura.fr
SUMMARY:Les pollutions de l’eau potable - Webinaire
DESCRIPTION:Journée destinée aux internes en médecine générale et jeunes médecins généralistes (dernière année d’internat\, SASPAS\, remplaçants\, etc.) afin de leur transmettre toutes les informations nécessaires pour une installation réussie en libéral.  Mercedi 10 juin 2026 à la faculté de Médecine de Saint-Etienne. Plus d’infos sur cette page ou auprès de Dominique Mochon : 04 72 83 81 34 / contact par mail 								\n		\n				\n				\n					Cliquez ici pour vous inscrire à cette journée
URL:https://urps-med-aura.fr/evenement/les-pollutions-de-leau-potable-webinaire/
END:VEVENT
BEGIN:VEVENT
DTSTART;TZID=Europe/Paris:20260505T130000
DTEND;TZID=Europe/Paris:20260505T140000
DTSTAMP:20260424T123341
CREATED:20260325T102236Z
LAST-MODIFIED:20260325T102236Z
UID:51092-1777986000-1777989600@urps-med-aura.fr
SUMMARY:Vaccination : Comment devenir un professionnel convaincant - Webinaire
DESCRIPTION:Journée destinée aux internes en médecine générale et jeunes médecins généralistes (dernière année d’internat\, SASPAS\, remplaçants\, etc.) afin de leur transmettre toutes les informations nécessaires pour une installation réussie en libéral.  Mercedi 10 juin 2026 à la faculté de Médecine de Saint-Etienne. Plus d’infos sur cette page ou auprès de Dominique Mochon : 04 72 83 81 34 / contact par mail 								\n		\n				\n				\n					Cliquez ici pour vous inscrire à cette journée
URL:https://urps-med-aura.fr/evenement/vaccination-comment-devenir-un-professionnel-convaincant-webinaire/
END:VEVENT
BEGIN:VEVENT
DTSTART;TZID=Europe/Paris:20260528T190000
DTEND;TZID=Europe/Paris:20260528T213000
DTSTAMP:20260424T123341
CREATED:20260420T131548Z
LAST-MODIFIED:20260421T085557Z
UID:51282-1779994800-1780003800@urps-med-aura.fr
SUMMARY:Ouverture sur la psychiatrie libérale - Soirée d'échanges
DESCRIPTION:Journée destinée aux internes en médecine générale et jeunes médecins généralistes (dernière année d’internat\, SASPAS\, remplaçants\, etc.) afin de leur transmettre toutes les informations nécessaires pour une installation réussie en libéral.  Mercedi 10 juin 2026 à la faculté de Médecine de Saint-Etienne. Plus d’infos sur cette page ou auprès de Dominique Mochon : 04 72 83 81 34 / contact par mail 								\n		\n				\n				\n					Cliquez ici pour vous inscrire à cette journée
URL:https://urps-med-aura.fr/evenement/ouverture-sur-la-psychiatrie-liberale-soiree-dechanges-2/
END:VEVENT
BEGIN:VEVENT
DTSTART;TZID=Europe/Paris:20260529T190000
DTEND;TZID=Europe/Paris:20260529T210000
DTSTAMP:20260424T123341
CREATED:20260309T162457Z
LAST-MODIFIED:20260420T072758Z
UID:50972-1780081200-1780088400@urps-med-aura.fr
SUMMARY:Formation Pour un diagnostic précoce du cancer du pancréas (Loire)
DESCRIPTION:Journée destinée aux internes en médecine générale et jeunes médecins généralistes (dernière année d’internat\, SASPAS\, remplaçants\, etc.) afin de leur transmettre toutes les informations nécessaires pour une installation réussie en libéral.  Mercedi 10 juin 2026 à la faculté de Médecine de Saint-Etienne. Plus d’infos sur cette page ou auprès de Dominique Mochon : 04 72 83 81 34 / contact par mail 								\n		\n				\n				\n					Cliquez ici pour vous inscrire à cette journée
URL:https://urps-med-aura.fr/evenement/formation-pour-un-diagnostic-precoce-du-cancer-du-pancreas-loire/
END:VEVENT
BEGIN:VEVENT
DTSTART;TZID=Europe/Paris:20260530T090000
DTEND;TZID=Europe/Paris:20260530T153000
DTSTAMP:20260424T123341
CREATED:20260313T082243Z
LAST-MODIFIED:20260403T093558Z
UID:51005-1780131600-1780155000@urps-med-aura.fr
SUMMARY:Journée de l'entrepreneuriat médical
DESCRIPTION:Journée destinée aux internes en médecine générale et jeunes médecins généralistes (dernière année d’internat\, SASPAS\, remplaçants\, etc.) afin de leur transmettre toutes les informations nécessaires pour une installation réussie en libéral.  Mercedi 10 juin 2026 à la faculté de Médecine de Saint-Etienne. Plus d’infos sur cette page ou auprès de Dominique Mochon : 04 72 83 81 34 / contact par mail 								\n		\n				\n				\n					Cliquez ici pour vous inscrire à cette journée
URL:https://urps-med-aura.fr/evenement/journee-de-lentrepreneuriat-liberal/
END:VEVENT
BEGIN:VEVENT
DTSTART;TZID=Europe/Paris:20260530T134500
DTEND;TZID=Europe/Paris:20260530T171500
DTSTAMP:20260424T123341
CREATED:20260403T093431Z
LAST-MODIFIED:20260403T093431Z
UID:51190-1780148700-1780161300@urps-med-aura.fr
SUMMARY:Séminaire des Présidents de CME de l'hospitalisation privée AuRA
DESCRIPTION:Journée destinée aux internes en médecine générale et jeunes médecins généralistes (dernière année d’internat\, SASPAS\, remplaçants\, etc.) afin de leur transmettre toutes les informations nécessaires pour une installation réussie en libéral.  Mercedi 10 juin 2026 à la faculté de Médecine de Saint-Etienne. Plus d’infos sur cette page ou auprès de Dominique Mochon : 04 72 83 81 34 / contact par mail 								\n		\n				\n				\n					Cliquez ici pour vous inscrire à cette journée
URL:https://urps-med-aura.fr/evenement/seminaire-des-presidents-de-cme-de-lhospitalisation-privee-aura/
END:VEVENT
BEGIN:VEVENT
DTSTART;TZID=Europe/Paris:20260602T180000
DTEND;TZID=Europe/Paris:20260602T223000
DTSTAMP:20260424T123341
CREATED:20260325T104711Z
LAST-MODIFIED:20260325T104711Z
UID:51094-1780423200-1780439400@urps-med-aura.fr
SUMMARY:Réunion Actualités en hématologie au CHANGE (Haute-Savoie)
DESCRIPTION:Journée destinée aux internes en médecine générale et jeunes médecins généralistes (dernière année d’internat\, SASPAS\, remplaçants\, etc.) afin de leur transmettre toutes les informations nécessaires pour une installation réussie en libéral.  Mercedi 10 juin 2026 à la faculté de Médecine de Saint-Etienne. Plus d’infos sur cette page ou auprès de Dominique Mochon : 04 72 83 81 34 / contact par mail 								\n		\n				\n				\n					Cliquez ici pour vous inscrire à cette journée
URL:https://urps-med-aura.fr/evenement/reunion-actualites-en-hematologie-au-change-haute-savoie/
END:VEVENT
BEGIN:VEVENT
DTSTART;TZID=Europe/Paris:20260609T123000
DTEND;TZID=Europe/Paris:20260609T133000
DTSTAMP:20260424T123341
CREATED:20260414T070534Z
LAST-MODIFIED:20260414T075859Z
UID:51239-1781008200-1781011800@urps-med-aura.fr
SUMMARY:Moustiques et arboviroses - Webinaire
DESCRIPTION:Journée destinée aux internes en médecine générale et jeunes médecins généralistes (dernière année d’internat\, SASPAS\, remplaçants\, etc.) afin de leur transmettre toutes les informations nécessaires pour une installation réussie en libéral.  Mercedi 10 juin 2026 à la faculté de Médecine de Saint-Etienne. Plus d’infos sur cette page ou auprès de Dominique Mochon : 04 72 83 81 34 / contact par mail 								\n		\n				\n				\n					Cliquez ici pour vous inscrire à cette journée
URL:https://urps-med-aura.fr/evenement/impact-environnemental-du-mesusage-des-antibiotiques-webinaire-2/
END:VEVENT
BEGIN:VEVENT
DTSTART;TZID=Europe/Paris:20260610T083000
DTEND;TZID=Europe/Paris:20260610T170000
DTSTAMP:20260424T123341
CREATED:20260423T134254Z
LAST-MODIFIED:20260423T151603Z
UID:51379-1781080200-1781110800@urps-med-aura.fr
SUMMARY:Journée d’entrée dans la vie professionnelle des jeunes médecins généralistes
DESCRIPTION:Journée destinée aux internes en médecine générale et jeunes médecins généralistes (dernière année d’internat\, SASPAS\, remplaçants\, etc.) afin de leur transmettre toutes les informations nécessaires pour une installation réussie en libéral.  Mercedi 10 juin 2026 à la faculté de Médecine de Saint-Etienne. Plus d’infos sur cette page ou auprès de Dominique Mochon : 04 72 83 81 34 / contact par mail 								\n		\n				\n				\n					Cliquez ici pour vous inscrire à cette journée
URL:https://urps-med-aura.fr/evenement/journee-dentree-dans-la-vie-professionnelle-des-jeunes-medecins-generalistes-4/
END:VEVENT
END:VCALENDAR